BEGIN:VCALENDAR
VERSION:2.0
PRODID:-//81.169.145.95//NONSGML kigkonsult.se iCalcreator 2.20//
CALSCALE:GREGORIAN
METHOD:PUBLISH
X-WR-TIMEZONE:UTC
BEGIN:VEVENT
UID:event256@Efa-Erkelenzerfrauenaktion.de
DTSTAMP:20260421T143708Z
CATEGORIES:Unterhaltung 
DESCRIPTION:Wir kegeln\nKategorie: Unterhaltung \nICS-Link: https://www.efa
 -erkelenzerfrauenaktion.de/index.php?option=com_jem&view=event&id=256:wir-
 kegeln\n
DTSTART:20250514T170000Z
DTEND:20250514T170000Z
LOCATION:Ristorant Pizzeria Il Gusto di Roma\,Servatiusstr. 14 (gegenüber d
 er Kirche)\,Erkelenz Kückhoven
SUMMARY:Wir kegeln
URL:https://www.efa-erkelenzerfrauenaktion.de/index.php?option=com_jem&view
 =event&id=256:wir-kegeln
END:VEVENT
END:VCALENDAR