BEGIN:VCALENDAR
VERSION:2.0
PRODID:-//81.169.145.95//NONSGML kigkonsult.se iCalcreator 2.20//
CALSCALE:GREGORIAN
METHOD:PUBLISH
X-WR-TIMEZONE:UTC
BEGIN:VEVENT
UID:event446@Efa-Erkelenzerfrauenaktion.de
DTSTAMP:20260424T041132Z
CATEGORIES:Ausflug
DESCRIPTION:Ausflug zur Landesgartenschau\nKategorie: Ausflug\nICS-Link: ht
 tps://www.efa-erkelenzerfrauenaktion.de/index.php?option=com_jem&view=even
 t&id=446:ausflug-zur-landesgartenschau\n
DTSTART:20260715T100000Z
DTEND:20260715T100000Z
LOCATION:Busbahnhof ZOB\,Zehnhofweg
SUMMARY:Ausflug zur Landesgartenschau
URL:https://www.efa-erkelenzerfrauenaktion.de/index.php?option=com_jem&view
 =event&id=446:ausflug-zur-landesgartenschau
END:VEVENT
END:VCALENDAR