BEGIN:VCALENDAR
VERSION:2.0
PRODID:-//81.169.145.95//NONSGML kigkonsult.se iCalcreator 2.20//
CALSCALE:GREGORIAN
METHOD:PUBLISH
X-WR-TIMEZONE:UTC
BEGIN:VEVENT
UID:event95@Efa-Erkelenzerfrauenaktion.de
DTSTAMP:20260422T231526Z
CATEGORIES:Kurs
DESCRIPTION:Klick oder klick lieber nicht\nKategorie: Kurs\nICS-Link: https
 ://www.efa-erkelenzerfrauenaktion.de/index.php?option=com_jem&view=event&i
 d=95:klick-oder-klick-lieber-nicht\n
DTSTART:20241022T100000Z
DTEND:20241022T120000Z
LOCATION:Bücherei/Schulungsraum
SUMMARY:Klick oder klick lieber nicht
URL:https://www.efa-erkelenzerfrauenaktion.de/index.php?option=com_jem&view
 =event&id=95:klick-oder-klick-lieber-nicht
END:VEVENT
END:VCALENDAR